BEGIN:VCALENDAR
VERSION:2.0
PRODID:-//Ockham Parish Council - ECPv6.15.18//NONSGML v1.0//EN
CALSCALE:GREGORIAN
METHOD:PUBLISH
X-ORIGINAL-URL:https://ockhamparishcouncil.gov.uk
X-WR-CALDESC:Events for Ockham Parish Council
REFRESH-INTERVAL;VALUE=DURATION:PT1H
X-Robots-Tag:noindex
X-PUBLISHED-TTL:PT1H
BEGIN:VTIMEZONE
TZID:Europe/London
BEGIN:DAYLIGHT
TZOFFSETFROM:+0000
TZOFFSETTO:+0100
TZNAME:BST
DTSTART:20200329T010000
END:DAYLIGHT
BEGIN:STANDARD
TZOFFSETFROM:+0100
TZOFFSETTO:+0000
TZNAME:GMT
DTSTART:20201025T010000
END:STANDARD
BEGIN:DAYLIGHT
TZOFFSETFROM:+0000
TZOFFSETTO:+0100
TZNAME:BST
DTSTART:20210328T010000
END:DAYLIGHT
BEGIN:STANDARD
TZOFFSETFROM:+0100
TZOFFSETTO:+0000
TZNAME:GMT
DTSTART:20211031T010000
END:STANDARD
BEGIN:DAYLIGHT
TZOFFSETFROM:+0000
TZOFFSETTO:+0100
TZNAME:BST
DTSTART:20220327T010000
END:DAYLIGHT
BEGIN:STANDARD
TZOFFSETFROM:+0100
TZOFFSETTO:+0000
TZNAME:GMT
DTSTART:20221030T010000
END:STANDARD
BEGIN:DAYLIGHT
TZOFFSETFROM:+0000
TZOFFSETTO:+0100
TZNAME:BST
DTSTART:20230326T010000
END:DAYLIGHT
BEGIN:STANDARD
TZOFFSETFROM:+0100
TZOFFSETTO:+0000
TZNAME:GMT
DTSTART:20231029T010000
END:STANDARD
BEGIN:DAYLIGHT
TZOFFSETFROM:+0000
TZOFFSETTO:+0100
TZNAME:BST
DTSTART:20240331T010000
END:DAYLIGHT
BEGIN:STANDARD
TZOFFSETFROM:+0100
TZOFFSETTO:+0000
TZNAME:GMT
DTSTART:20241027T010000
END:STANDARD
BEGIN:DAYLIGHT
TZOFFSETFROM:+0000
TZOFFSETTO:+0100
TZNAME:BST
DTSTART:20250330T010000
END:DAYLIGHT
BEGIN:STANDARD
TZOFFSETFROM:+0100
TZOFFSETTO:+0000
TZNAME:GMT
DTSTART:20251026T010000
END:STANDARD
BEGIN:DAYLIGHT
TZOFFSETFROM:+0000
TZOFFSETTO:+0100
TZNAME:BST
DTSTART:20260329T010000
END:DAYLIGHT
BEGIN:STANDARD
TZOFFSETFROM:+0100
TZOFFSETTO:+0000
TZNAME:GMT
DTSTART:20261025T010000
END:STANDARD
BEGIN:DAYLIGHT
TZOFFSETFROM:+0000
TZOFFSETTO:+0100
TZNAME:BST
DTSTART:20270328T010000
END:DAYLIGHT
BEGIN:STANDARD
TZOFFSETFROM:+0100
TZOFFSETTO:+0000
TZNAME:GMT
DTSTART:20271031T010000
END:STANDARD
END:VTIMEZONE
BEGIN:VEVENT
DTSTART;TZID=Europe/London:20260414T190000
DTEND;TZID=Europe/London:20260414T203000
DTSTAMP:20260424T093249
CREATED:20260219T104326Z
LAST-MODIFIED:20260219T104326Z
UID:3656-1776193200-1776198600@ockhamparishcouncil.gov.uk
SUMMARY:Parish Council Meeting
DESCRIPTION:
URL:https://ockhamparishcouncil.gov.uk/event/parish-council-meeting-23
LOCATION:All Saints Church\, Ockham\, Ockham Rd N\, Surrey\, GU23 6NL\, United Kingdom
CATEGORIES:Parish Council Meetings
ATTACH;FMTTYPE=image/jpeg:https://ockhamparishcouncil.gov.uk/wp-content/uploads/2021/08/ockham-footer-logo.jpg
END:VEVENT
BEGIN:VEVENT
DTSTART;TZID=Europe/London:20260310T190000
DTEND;TZID=Europe/London:20260310T203000
DTSTAMP:20260424T093249
CREATED:20260219T104127Z
LAST-MODIFIED:20260219T104127Z
UID:3653-1773169200-1773174600@ockhamparishcouncil.gov.uk
SUMMARY:Parish Council Meeting
DESCRIPTION:
URL:https://ockhamparishcouncil.gov.uk/event/parish-council-meeting-22
LOCATION:All Saints Church\, Ockham\, Ockham Rd N\, Surrey\, GU23 6NL\, United Kingdom
CATEGORIES:Parish Council Meetings
ATTACH;FMTTYPE=image/jpeg:https://ockhamparishcouncil.gov.uk/wp-content/uploads/2021/08/ockham-footer-logo.jpg
END:VEVENT
BEGIN:VEVENT
DTSTART;TZID=Europe/London:20250513T200000
DTEND;TZID=Europe/London:20250513T213000
DTSTAMP:20260424T093249
CREATED:20250411T180036Z
LAST-MODIFIED:20250411T180036Z
UID:3283-1747166400-1747171800@ockhamparishcouncil.gov.uk
SUMMARY:Annual Meeting
DESCRIPTION:
URL:https://ockhamparishcouncil.gov.uk/event/annual-meeting
LOCATION:Ockham Cricket club\, GU23 6NR
CATEGORIES:Parish Council Meetings
ATTACH;FMTTYPE=image/jpeg:https://ockhamparishcouncil.gov.uk/wp-content/uploads/2021/08/ockham-footer-logo.jpg
END:VEVENT
BEGIN:VEVENT
DTSTART;TZID=Europe/London:20250513T183000
DTEND;TZID=Europe/London:20250513T193000
DTSTAMP:20260424T093249
CREATED:20250411T175934Z
LAST-MODIFIED:20250411T175934Z
UID:3280-1747161000-1747164600@ockhamparishcouncil.gov.uk
SUMMARY:Parish Meeting
DESCRIPTION:
URL:https://ockhamparishcouncil.gov.uk/event/parish-meeting
LOCATION:Ockham Cricket club\, GU23 6NR
CATEGORIES:Parish Council Meetings
ATTACH;FMTTYPE=image/jpeg:https://ockhamparishcouncil.gov.uk/wp-content/uploads/2021/08/ockham-footer-logo.jpg
END:VEVENT
BEGIN:VEVENT
DTSTART;TZID=Europe/London:20250114T200000
DTEND;TZID=Europe/London:20250114T213000
DTSTAMP:20260424T093249
CREATED:20241219T104242Z
LAST-MODIFIED:20241219T104242Z
UID:3070-1736884800-1736890200@ockhamparishcouncil.gov.uk
SUMMARY:Parish Council Meeting
DESCRIPTION:
URL:https://ockhamparishcouncil.gov.uk/event/parish-council-meeting-21
LOCATION:All Saints Church\, Ockham\, Ockham Rd N\, Surrey\, GU23 6NL\, United Kingdom
CATEGORIES:Parish Council Meetings
ATTACH;FMTTYPE=image/jpeg:https://ockhamparishcouncil.gov.uk/wp-content/uploads/2021/08/ockham-footer-logo.jpg
END:VEVENT
BEGIN:VEVENT
DTSTART;TZID=Europe/London:20240514T183000
DTEND;TZID=Europe/London:20240514T193000
DTSTAMP:20260424T093249
CREATED:20240420T082652Z
LAST-MODIFIED:20250411T175653Z
UID:2502-1715711400-1715715000@ockhamparishcouncil.gov.uk
SUMMARY:Ockham Parish Council Meeting
DESCRIPTION:
URL:https://ockhamparishcouncil.gov.uk/event/ockham-parish-council-meeting
LOCATION:Ockham Cricket club\, GU23 6NR
CATEGORIES:Parish Council Meetings
ATTACH;FMTTYPE=image/jpeg:https://ockhamparishcouncil.gov.uk/wp-content/uploads/2021/08/ockham-footer-logo.jpg
END:VEVENT
BEGIN:VEVENT
DTSTART;TZID=Europe/London:20231212T210000
DTEND;TZID=Europe/London:20231212T223000
DTSTAMP:20260424T093249
CREATED:20230207T102829Z
LAST-MODIFIED:20230207T102829Z
UID:1539-1702414800-1702420200@ockhamparishcouncil.gov.uk
SUMMARY:Parish Council Meeting
DESCRIPTION:
URL:https://ockhamparishcouncil.gov.uk/event/parish-council-meeting-18
LOCATION:Surrey
CATEGORIES:Parish Council Meetings
ATTACH;FMTTYPE=image/jpeg:https://ockhamparishcouncil.gov.uk/wp-content/uploads/2021/08/ockham-footer-logo.jpg
END:VEVENT
BEGIN:VEVENT
DTSTART;TZID=Europe/London:20231114T200000
DTEND;TZID=Europe/London:20231114T213000
DTSTAMP:20260424T093249
CREATED:20230207T102726Z
LAST-MODIFIED:20230207T102726Z
UID:1537-1699992000-1699997400@ockhamparishcouncil.gov.uk
SUMMARY:Parish Council Meeting
DESCRIPTION:
URL:https://ockhamparishcouncil.gov.uk/event/parish-council-meeting-17
LOCATION:All Saints Church\, Ockham\, Ockham Rd N\, Surrey\, GU23 6NL\, United Kingdom
CATEGORIES:Parish Council Meetings
ATTACH;FMTTYPE=image/jpeg:https://ockhamparishcouncil.gov.uk/wp-content/uploads/2021/08/ockham-footer-logo.jpg
END:VEVENT
BEGIN:VEVENT
DTSTART;TZID=Europe/London:20231010T190000
DTEND;TZID=Europe/London:20231010T213000
DTSTAMP:20260424T093249
CREATED:20230207T102627Z
LAST-MODIFIED:20250912T113650Z
UID:1535-1696964400-1696973400@ockhamparishcouncil.gov.uk
SUMMARY:Parish Council Meeting
DESCRIPTION:
URL:https://ockhamparishcouncil.gov.uk/event/parish-council-meeting-16
LOCATION:All Saints Church\, Ockham\, Ockham Rd N\, Surrey\, GU23 6NL\, United Kingdom
CATEGORIES:Parish Council Meetings
ATTACH;FMTTYPE=image/jpeg:https://ockhamparishcouncil.gov.uk/wp-content/uploads/2021/08/ockham-footer-logo.jpg
END:VEVENT
BEGIN:VEVENT
DTSTART;TZID=Europe/London:20230914T200000
DTEND;TZID=Europe/London:20230914T213000
DTSTAMP:20260424T093249
CREATED:20230207T102515Z
LAST-MODIFIED:20230801T095513Z
UID:1533-1694721600-1694727000@ockhamparishcouncil.gov.uk
SUMMARY:Parish Council Meeting
DESCRIPTION:
URL:https://ockhamparishcouncil.gov.uk/event/parish-council-meeting-15
LOCATION:All Saints Church\, Ockham\, Ockham Rd N\, Surrey\, GU23 6NL\, United Kingdom
CATEGORIES:Parish Council Meetings
ATTACH;FMTTYPE=image/jpeg:https://ockhamparishcouncil.gov.uk/wp-content/uploads/2021/08/ockham-footer-logo.jpg
END:VEVENT
BEGIN:VEVENT
DTSTART;TZID=Europe/London:20230711T200000
DTEND;TZID=Europe/London:20230711T213000
DTSTAMP:20260424T093249
CREATED:20230207T102410Z
LAST-MODIFIED:20230207T102410Z
UID:1531-1689105600-1689111000@ockhamparishcouncil.gov.uk
SUMMARY:Parish Council Meeting
DESCRIPTION:
URL:https://ockhamparishcouncil.gov.uk/event/parish-council-meeting-14
LOCATION:All Saints Church\, Ockham\, Ockham Rd N\, Surrey\, GU23 6NL\, United Kingdom
CATEGORIES:Parish Council Meetings
ATTACH;FMTTYPE=image/jpeg:https://ockhamparishcouncil.gov.uk/wp-content/uploads/2021/08/ockham-footer-logo.jpg
END:VEVENT
BEGIN:VEVENT
DTSTART;TZID=Europe/London:20230613T200000
DTEND;TZID=Europe/London:20230613T213000
DTSTAMP:20260424T093249
CREATED:20230207T102302Z
LAST-MODIFIED:20230207T102302Z
UID:1529-1686686400-1686691800@ockhamparishcouncil.gov.uk
SUMMARY:Parish Council Meeting
DESCRIPTION:
URL:https://ockhamparishcouncil.gov.uk/event/parish-council-meeting-13
LOCATION:All Saints Church\, Ockham\, Ockham Rd N\, Surrey\, GU23 6NL\, United Kingdom
CATEGORIES:Parish Council Meetings
ATTACH;FMTTYPE=image/jpeg:https://ockhamparishcouncil.gov.uk/wp-content/uploads/2021/08/ockham-footer-logo.jpg
END:VEVENT
BEGIN:VEVENT
DTSTART;TZID=Europe/London:20230602T170000
DTEND;TZID=Europe/London:20230602T180000
DTSTAMP:20260424T093249
CREATED:20230529T204733Z
LAST-MODIFIED:20230529T205207Z
UID:1819-1685725200-1685728800@ockhamparishcouncil.gov.uk
SUMMARY:Extraordinary Meeting of Ockham Parish Council
DESCRIPTION:
URL:https://ockhamparishcouncil.gov.uk/event/extraordinary-meeting-of-ockham-parish-council
LOCATION:All Saints Church\, Ockham\, Ockham Rd N\, Surrey\, GU23 6NL\, United Kingdom
CATEGORIES:Parish Council Meetings
ATTACH;FMTTYPE=image/jpeg:https://ockhamparishcouncil.gov.uk/wp-content/uploads/2021/08/ockham-footer-logo.jpg
END:VEVENT
BEGIN:VEVENT
DTSTART;TZID=Europe/London:20230516T183000
DTEND;TZID=Europe/London:20230516T193000
DTSTAMP:20260424T093249
CREATED:20230207T103221Z
LAST-MODIFIED:20230509T155238Z
UID:1544-1684261800-1684265400@ockhamparishcouncil.gov.uk
SUMMARY:Annual Meeting
DESCRIPTION:
URL:https://ockhamparishcouncil.gov.uk/event/annual-meeting-date-to-be-confirmed
LOCATION:All Saints Church\, Ockham\, Ockham Rd N\, Surrey\, GU23 6NL\, United Kingdom
CATEGORIES:Parish Council Meetings
ATTACH;FMTTYPE=image/jpeg:https://ockhamparishcouncil.gov.uk/wp-content/uploads/2021/08/ockham-footer-logo.jpg
END:VEVENT
BEGIN:VEVENT
DTSTART;TZID=Europe/London:20230411T200000
DTEND;TZID=Europe/London:20230411T213000
DTSTAMP:20260424T093249
CREATED:20230207T104340Z
LAST-MODIFIED:20230207T104340Z
UID:1552-1681243200-1681248600@ockhamparishcouncil.gov.uk
SUMMARY:Parish Council Meeting
DESCRIPTION:
URL:https://ockhamparishcouncil.gov.uk/event/parish-council-meeting-20
LOCATION:All Saints Church\, Ockham\, Ockham Rd N\, Surrey\, GU23 6NL\, United Kingdom
CATEGORIES:Parish Council Meetings
ATTACH;FMTTYPE=image/jpeg:https://ockhamparishcouncil.gov.uk/wp-content/uploads/2021/08/ockham-footer-logo.jpg
END:VEVENT
BEGIN:VEVENT
DTSTART;TZID=Europe/London:20230314T200000
DTEND;TZID=Europe/London:20230314T213000
DTSTAMP:20260424T093249
CREATED:20230207T101914Z
LAST-MODIFIED:20230207T103724Z
UID:1523-1678824000-1678829400@ockhamparishcouncil.gov.uk
SUMMARY:Parish Council Meeting
DESCRIPTION:
URL:https://ockhamparishcouncil.gov.uk/event/parish-council-meeting-11
LOCATION:All Saints Church\, Ockham\, Ockham Rd N\, Surrey\, GU23 6NL\, United Kingdom
CATEGORIES:Parish Council Meetings
ATTACH;FMTTYPE=image/jpeg:https://ockhamparishcouncil.gov.uk/wp-content/uploads/2021/08/ockham-footer-logo.jpg
END:VEVENT
BEGIN:VEVENT
DTSTART;TZID=Europe/London:20230214T200000
DTEND;TZID=Europe/London:20230214T213000
DTSTAMP:20260424T093249
CREATED:20230207T102147Z
LAST-MODIFIED:20230207T103635Z
UID:1526-1676404800-1676410200@ockhamparishcouncil.gov.uk
SUMMARY:Parish Council Meeting
DESCRIPTION:
URL:https://ockhamparishcouncil.gov.uk/event/parish-council-meeting-12
LOCATION:All Saints Church\, Ockham\, Ockham Rd N\, Surrey\, GU23 6NL\, United Kingdom
CATEGORIES:Parish Council Meetings
ATTACH;FMTTYPE=image/jpeg:https://ockhamparishcouncil.gov.uk/wp-content/uploads/2021/08/ockham-footer-logo.jpg
END:VEVENT
BEGIN:VEVENT
DTSTART;TZID=Europe/London:20230110T200000
DTEND;TZID=Europe/London:20230110T213000
DTSTAMP:20260424T093249
CREATED:20230207T103328Z
LAST-MODIFIED:20230207T103328Z
UID:1547-1673380800-1673386200@ockhamparishcouncil.gov.uk
SUMMARY:Parish Council Meeting
DESCRIPTION:
URL:https://ockhamparishcouncil.gov.uk/event/parish-council-meeting-19
LOCATION:All Saints Church\, Ockham\, Ockham Rd N\, Surrey\, GU23 6NL\, United Kingdom
CATEGORIES:Parish Council Meetings
ATTACH;FMTTYPE=image/jpeg:https://ockhamparishcouncil.gov.uk/wp-content/uploads/2021/08/ockham-footer-logo.jpg
END:VEVENT
BEGIN:VEVENT
DTSTART;TZID=Europe/London:20221213T200000
DTEND;TZID=Europe/London:20221213T200000
DTSTAMP:20260424T093249
CREATED:20220124T123111Z
LAST-MODIFIED:20220124T123111Z
UID:803-1670961600-1670961600@ockhamparishcouncil.gov.uk
SUMMARY:Parish Council Meeting
DESCRIPTION:
URL:https://ockhamparishcouncil.gov.uk/event/parish-council-meeting-9
LOCATION:All Saints Church\, Ockham\, Ockham Rd N\, Surrey\, GU23 6NL\, United Kingdom
CATEGORIES:Parish Council Meetings
ATTACH;FMTTYPE=image/jpeg:https://ockhamparishcouncil.gov.uk/wp-content/uploads/2021/08/ockham-footer-logo.jpg
END:VEVENT
BEGIN:VEVENT
DTSTART;TZID=Europe/London:20221108T200000
DTEND;TZID=Europe/London:20221108T200000
DTSTAMP:20260424T093249
CREATED:20220124T123010Z
LAST-MODIFIED:20220124T123010Z
UID:801-1667937600-1667937600@ockhamparishcouncil.gov.uk
SUMMARY:Parish Council Meeting
DESCRIPTION:
URL:https://ockhamparishcouncil.gov.uk/event/parish-council-meeting-8
LOCATION:Surrey
CATEGORIES:Parish Council Meetings
ATTACH;FMTTYPE=image/jpeg:https://ockhamparishcouncil.gov.uk/wp-content/uploads/2021/08/ockham-footer-logo.jpg
END:VEVENT
BEGIN:VEVENT
DTSTART;TZID=Europe/London:20221011T200000
DTEND;TZID=Europe/London:20221011T200000
DTSTAMP:20260424T093249
CREATED:20220124T122906Z
LAST-MODIFIED:20220124T122906Z
UID:798-1665518400-1665518400@ockhamparishcouncil.gov.uk
SUMMARY:Parish Council Meeting
DESCRIPTION:
URL:https://ockhamparishcouncil.gov.uk/event/parish-council-meeting-7
LOCATION:All Saints Church\, Ockham\, Ockham Rd N\, Surrey\, GU23 6NL\, United Kingdom
CATEGORIES:Parish Council Meetings
ATTACH;FMTTYPE=image/jpeg:https://ockhamparishcouncil.gov.uk/wp-content/uploads/2021/08/ockham-footer-logo.jpg
END:VEVENT
BEGIN:VEVENT
DTSTART;TZID=Europe/London:20220913T200000
DTEND;TZID=Europe/London:20220913T200000
DTSTAMP:20260424T093249
CREATED:20220124T122754Z
LAST-MODIFIED:20220124T122754Z
UID:795-1663099200-1663099200@ockhamparishcouncil.gov.uk
SUMMARY:Parish Council Meeting
DESCRIPTION:
URL:https://ockhamparishcouncil.gov.uk/event/parish-council-meeting-6
LOCATION:All Saints Church\, Ockham\, Ockham Rd N\, Surrey\, GU23 6NL\, United Kingdom
CATEGORIES:Parish Council Meetings
ATTACH;FMTTYPE=image/jpeg:https://ockhamparishcouncil.gov.uk/wp-content/uploads/2021/08/ockham-footer-logo.jpg
END:VEVENT
BEGIN:VEVENT
DTSTART;TZID=Europe/London:20220712T200000
DTEND;TZID=Europe/London:20220712T200000
DTSTAMP:20260424T093249
CREATED:20220124T122240Z
LAST-MODIFIED:20220124T122240Z
UID:792-1657656000-1657656000@ockhamparishcouncil.gov.uk
SUMMARY:Parish Council Meeting
DESCRIPTION:
URL:https://ockhamparishcouncil.gov.uk/event/parish-council-meeting-5
LOCATION:All Saints Church\, Ockham\, Ockham Rd N\, Surrey\, GU23 6NL\, United Kingdom
CATEGORIES:Parish Council Meetings
ATTACH;FMTTYPE=image/jpeg:https://ockhamparishcouncil.gov.uk/wp-content/uploads/2021/08/ockham-footer-logo.jpg
END:VEVENT
BEGIN:VEVENT
DTSTART;TZID=Europe/London:20220621T200000
DTEND;TZID=Europe/London:20220621T200000
DTSTAMP:20260424T093249
CREATED:20220124T122011Z
LAST-MODIFIED:20220124T122011Z
UID:788-1655841600-1655841600@ockhamparishcouncil.gov.uk
SUMMARY:Parish Council Meeting
DESCRIPTION:
URL:https://ockhamparishcouncil.gov.uk/event/parish-council-meeting-4
LOCATION:All Saints Church\, Ockham\, Ockham Rd N\, Surrey\, GU23 6NL\, United Kingdom
CATEGORIES:Parish Council Meetings
ATTACH;FMTTYPE=image/jpeg:https://ockhamparishcouncil.gov.uk/wp-content/uploads/2021/08/ockham-footer-logo.jpg
END:VEVENT
BEGIN:VEVENT
DTSTART;TZID=Europe/London:20220510T200000
DTEND;TZID=Europe/London:20220510T200000
DTSTAMP:20260424T093249
CREATED:20220124T123217Z
LAST-MODIFIED:20220124T123300Z
UID:806-1652212800-1652212800@ockhamparishcouncil.gov.uk
SUMMARY:Annual Meeting
DESCRIPTION:
URL:https://ockhamparishcouncil.gov.uk/event/parish-council-meeting-10
LOCATION:All Saints Church\, Ockham\, Ockham Rd N\, Surrey\, GU23 6NL\, United Kingdom
CATEGORIES:Parish Council Meetings
ATTACH;FMTTYPE=image/jpeg:https://ockhamparishcouncil.gov.uk/wp-content/uploads/2021/08/ockham-footer-logo.jpg
END:VEVENT
BEGIN:VEVENT
DTSTART;TZID=Europe/London:20220412T200000
DTEND;TZID=Europe/London:20220412T200000
DTSTAMP:20260424T093249
CREATED:20220124T121515Z
LAST-MODIFIED:20220124T122056Z
UID:784-1649793600-1649793600@ockhamparishcouncil.gov.uk
SUMMARY:Parish Council Meeting
DESCRIPTION:
URL:https://ockhamparishcouncil.gov.uk/event/parish-council-meeting-3
LOCATION:All Saints Church\, Ockham\, Ockham Rd N\, Surrey\, GU23 6NL\, United Kingdom
CATEGORIES:Parish Council Meetings
ATTACH;FMTTYPE=image/jpeg:https://ockhamparishcouncil.gov.uk/wp-content/uploads/2021/08/ockham-footer-logo.jpg
END:VEVENT
BEGIN:VEVENT
DTSTART;TZID=Europe/London:20220308T200000
DTEND;TZID=Europe/London:20220308T200000
DTSTAMP:20260424T093249
CREATED:20220124T120849Z
LAST-MODIFIED:20220124T120849Z
UID:780-1646769600-1646769600@ockhamparishcouncil.gov.uk
SUMMARY:Parish Council Meeting
DESCRIPTION:
URL:https://ockhamparishcouncil.gov.uk/event/parish-council-meeting-2
LOCATION:All Saints Church\, Ockham\, Ockham Rd N\, Surrey\, GU23 6NL\, United Kingdom
CATEGORIES:Parish Council Meetings
ATTACH;FMTTYPE=image/jpeg:https://ockhamparishcouncil.gov.uk/wp-content/uploads/2021/08/ockham-footer-logo.jpg
END:VEVENT
BEGIN:VEVENT
DTSTART;TZID=Europe/London:20220208T200000
DTEND;TZID=Europe/London:20220208T200000
DTSTAMP:20260424T093249
CREATED:20220123T175727Z
LAST-MODIFIED:20220123T175727Z
UID:776-1644350400-1644350400@ockhamparishcouncil.gov.uk
SUMMARY:Parish Council Meeting
DESCRIPTION:
URL:https://ockhamparishcouncil.gov.uk/event/parish-council-meeting
LOCATION:All Saints Church\, Ockham\, Ockham Rd N\, Surrey\, GU23 6NL\, United Kingdom
CATEGORIES:Parish Council Meetings
ATTACH;FMTTYPE=image/jpeg:https://ockhamparishcouncil.gov.uk/wp-content/uploads/2021/08/ockham-footer-logo.jpg
END:VEVENT
BEGIN:VEVENT
DTSTART;TZID=Europe/London:20220118T200000
DTEND;TZID=Europe/London:20220118T220000
DTSTAMP:20260424T093249
CREATED:20220112T152923Z
LAST-MODIFIED:20220112T153800Z
UID:677-1642536000-1642543200@ockhamparishcouncil.gov.uk
SUMMARY:Parish Council Meeting
DESCRIPTION:
URL:https://ockhamparishcouncil.gov.uk/event/jan_parish-council-meeting
LOCATION:All Saints Church\, Ockham\, Ockham Rd N\, Surrey\, GU23 6NL\, United Kingdom
CATEGORIES:Parish Council Meetings
ATTACH;FMTTYPE=image/jpeg:https://ockhamparishcouncil.gov.uk/wp-content/uploads/2021/08/ockham-footer-logo.jpg
END:VEVENT
BEGIN:VEVENT
DTSTART;TZID=Europe/London:20211013T080000
DTEND;TZID=Europe/London:20211013T170000
DTSTAMP:20260424T093249
CREATED:20210812T143834Z
LAST-MODIFIED:20210812T143854Z
UID:538-1634112000-1634144400@ockhamparishcouncil.gov.uk
SUMMARY:Duis vitae dolor sit amet magna mattis eleifend tempus interdum ipsum
DESCRIPTION:
URL:https://ockhamparishcouncil.gov.uk/event/duis-vitae-dolor-sit-amet-magna-mattis-eleifend-tempus-interdum-ipsum
LOCATION:Online
CATEGORIES:Parish Council Meetings
ATTACH;FMTTYPE=image/jpeg:https://ockhamparishcouncil.gov.uk/wp-content/uploads/2021/08/summer-in-the-dorset-countryside-WKPADRZ-2-w2000.jpg
END:VEVENT
END:VCALENDAR